Package: gDRstyle Version: 1.7.2 Command: F:\biocbuild\bbs-3.22-bioc\R\bin\R.exe CMD check --no-multiarch --install=check:gDRstyle.install-out.txt --library=F:\biocbuild\bbs-3.22-bioc\R\library --no-vignettes --timings gDRstyle_1.7.2.tar.gz StartedAt: 2025-07-22 02:20:32 -0400 (Tue, 22 Jul 2025) EndedAt: 2025-07-22 02:22:29 -0400 (Tue, 22 Jul 2025) EllapsedTime: 116.8 seconds RetCode: 0 Status: OK CheckDir: gDRstyle.Rcheck Warnings: 0