Package: gDRstyle Version: 1.7.2 Command: /Library/Frameworks/R.framework/Resources/bin/R CMD INSTALL gDRstyle StartedAt: 2025-06-27 15:07:26 -0400 (Fri, 27 Jun 2025) EndedAt: 2025-06-27 15:07:27 -0400 (Fri, 27 Jun 2025) EllapsedTime: 1.6 seconds RetCode: 0 Status: OK