Package: gDRimport Version: 1.7.3 Command: /home/biocbuild/R/R/bin/R CMD INSTALL gDRimport StartedAt: 2025-07-14 20:58:28 -0000 (Mon, 14 Jul 2025) EndedAt: 2025-07-14 20:59:00 -0000 (Mon, 14 Jul 2025) EllapsedTime: 31.8 seconds RetCode: 0 Status: OK