Package: gDRimport Version: 1.7.3 Command: /home/biocbuild/R/R/bin/R CMD check --install=check:gDRimport.install-out.txt --library=/home/biocbuild/R/R/site-library --no-vignettes --timings gDRimport_1.7.3.tar.gz StartedAt: 2025-07-15 07:41:14 -0000 (Tue, 15 Jul 2025) EndedAt: 2025-07-15 07:44:57 -0000 (Tue, 15 Jul 2025) EllapsedTime: 223.1 seconds RetCode: 0 Status: OK CheckDir: gDRimport.Rcheck Warnings: 0