Package: gDRimport Version: 1.7.3 Command: /home/biocbuild/R/R/bin/R CMD build --keep-empty-dirs --no-resave-data gDRimport StartedAt: 2025-07-14 23:44:00 -0000 (Mon, 14 Jul 2025) EndedAt: 2025-07-14 23:45:06 -0000 (Mon, 14 Jul 2025) EllapsedTime: 66.0 seconds RetCode: 0 Status: OK PackageFile: gDRimport_1.7.3.tar.gz PackageFileSize: 3.037 MiB