Package: gDRimport Version: 1.7.3 Command: chmod a+r gDRimport -R && F:\biocbuild\bbs-3.22-bioc\R\bin\R.exe CMD build --keep-empty-dirs --no-resave-data gDRimport StartedAt: 2025-07-24 19:24:14 -0400 (Thu, 24 Jul 2025) EndedAt: 2025-07-24 19:26:06 -0400 (Thu, 24 Jul 2025) EllapsedTime: 112.4 seconds RetCode: 0 Status: OK PackageFile: gDRimport_1.7.3.tar.gz PackageFileSize: 3.01 MiB