Package: gDRimport Version: 1.7.3 Command: /Library/Frameworks/R.framework/Resources/bin/R CMD check --install=check:gDRimport.install-out.txt --library=/Library/Frameworks/R.framework/Resources/library --no-vignettes --timings gDRimport_1.7.3.tar.gz StartedAt: 2025-07-14 20:52:14 -0400 (Mon, 14 Jul 2025) EndedAt: 2025-07-14 20:55:43 -0400 (Mon, 14 Jul 2025) EllapsedTime: 208.7 seconds RetCode: 0 Status: OK CheckDir: gDRimport.Rcheck Warnings: 0