Package: gDRimport Version: 1.7.3 Command: /Library/Frameworks/R.framework/Resources/bin/R CMD build --keep-empty-dirs --no-resave-data gDRimport StartedAt: 2025-07-14 17:01:18 -0400 (Mon, 14 Jul 2025) EndedAt: 2025-07-14 17:02:18 -0400 (Mon, 14 Jul 2025) EllapsedTime: 59.4 seconds RetCode: 0 Status: OK PackageFile: gDRimport_1.7.3.tar.gz PackageFileSize: 3.009 MiB