Package: gDRimport Version: 1.7.3 Command: rm -rf gDRimport.buildbin-libdir && mkdir gDRimport.buildbin-libdir && /Users/biocbuild/BBS/utils/build-universal.sh gDRimport_1.7.3.tar.gz /Library/Frameworks/R.framework/Resources/bin/R gDRimport.buildbin-libdir StartedAt: 2025-07-15 00:58:04 -0400 (Tue, 15 Jul 2025) EndedAt: 2025-07-15 00:58:42 -0400 (Tue, 15 Jul 2025) EllapsedTime: 37.1 seconds RetCode: 0 Status: OK PackageFile: gDRimport_1.7.3.tgz PackageFileSize: 3.33 MiB