Package: gDRimport Version: 1.7.3 Command: /Library/Frameworks/R.framework/Resources/bin/R CMD INSTALL gDRimport StartedAt: 2025-07-22 15:19:19 -0400 (Tue, 22 Jul 2025) EndedAt: 2025-07-22 15:19:29 -0400 (Tue, 22 Jul 2025) EllapsedTime: 10.0 seconds RetCode: 0 Status: OK