Package: gDRimport Version: 1.7.3 Command: /Library/Frameworks/R.framework/Resources/bin/R CMD check --install=check:gDRimport.install-out.txt --library=/Library/Frameworks/R.framework/Resources/library --no-vignettes --timings gDRimport_1.7.3.tar.gz StartedAt: 2025-07-22 19:23:05 -0400 (Tue, 22 Jul 2025) EndedAt: 2025-07-22 19:24:15 -0400 (Tue, 22 Jul 2025) EllapsedTime: 69.8 seconds RetCode: 0 Status: OK CheckDir: gDRimport.Rcheck Warnings: 0