Package: gDRimport Version: 1.7.3 Command: /Library/Frameworks/R.framework/Resources/bin/R CMD build --keep-empty-dirs --no-resave-data gDRimport StartedAt: 2025-07-22 16:22:23 -0400 (Tue, 22 Jul 2025) EndedAt: 2025-07-22 16:22:44 -0400 (Tue, 22 Jul 2025) EllapsedTime: 21.2 seconds RetCode: 0 Status: OK PackageFile: gDRimport_1.7.3.tar.gz PackageFileSize: 3.009 MiB