Package: gDRcore Version: 1.7.8 Command: /home/biocbuild/bbs-3.22-bioc/R/bin/R CMD INSTALL gDRcore StartedAt: 2025-10-03 15:37:07 -0400 (Fri, 03 Oct 2025) EndedAt: 2025-10-03 15:37:22 -0400 (Fri, 03 Oct 2025) EllapsedTime: 15.2 seconds RetCode: 0 Status: OK