Package: gDRcore Version: 1.7.8 Command: /home/biocbuild/bbs-3.22-bioc/R/bin/R CMD check --install=check:gDRcore.install-out.txt --library=/home/biocbuild/bbs-3.22-bioc/R/site-library --timings gDRcore_1.7.8.tar.gz StartedAt: 2025-10-03 23:57:50 -0400 (Fri, 03 Oct 2025) EndedAt: 2025-10-04 00:03:43 -0400 (Sat, 04 Oct 2025) EllapsedTime: 352.4 seconds RetCode: 0 Status: OK CheckDir: gDRcore.Rcheck Warnings: 0