Package: gDR Version: 1.7.2 Command: /home/biocbuild/R/R/bin/R CMD INSTALL gDR StartedAt: 2025-07-07 20:52:16 -0000 (Mon, 07 Jul 2025) EndedAt: 2025-07-07 20:52:45 -0000 (Mon, 07 Jul 2025) EllapsedTime: 29.4 seconds RetCode: 0 Status: OK