Package: gDR Version: 1.7.2 Command: /home/biocbuild/bbs-3.22-bioc/R/bin/R CMD INSTALL gDR StartedAt: 2025-07-10 15:46:20 -0400 (Thu, 10 Jul 2025) EndedAt: 2025-07-10 15:46:48 -0400 (Thu, 10 Jul 2025) EllapsedTime: 27.6 seconds RetCode: 0 Status: OK