Package: gDR Version: 1.7.2 Command: /Library/Frameworks/R.framework/Resources/bin/R CMD INSTALL gDR StartedAt: 2025-07-09 16:00:01 -0400 (Wed, 09 Jul 2025) EndedAt: 2025-07-09 16:00:33 -0400 (Wed, 09 Jul 2025) EllapsedTime: 31.8 seconds RetCode: 0 Status: OK