Package: gDR Version: 1.7.2 Command: /Library/Frameworks/R.framework/Resources/bin/R CMD check --install=check:gDR.install-out.txt --library=/Library/Frameworks/R.framework/Resources/library --no-vignettes --timings gDR_1.7.2.tar.gz StartedAt: 2025-07-11 20:50:06 -0400 (Fri, 11 Jul 2025) EndedAt: 2025-07-11 20:53:25 -0400 (Fri, 11 Jul 2025) EllapsedTime: 199.7 seconds RetCode: 0 Status: OK CheckDir: gDR.Rcheck Warnings: 0