Package: gDR Version: 1.7.2 Command: /Library/Frameworks/R.framework/Resources/bin/R CMD build --keep-empty-dirs --no-resave-data gDR StartedAt: 2025-07-09 16:30:14 -0400 (Wed, 09 Jul 2025) EndedAt: 2025-07-09 16:30:34 -0400 (Wed, 09 Jul 2025) EllapsedTime: 20.2 seconds RetCode: 0 Status: OK PackageFile: gDR_1.7.2.tar.gz PackageFileSize: 276.1 KiB