Package: gDR Version: 1.7.2 Command: rm -rf gDR.buildbin-libdir && mkdir gDR.buildbin-libdir && /Users/biocbuild/BBS/utils/build-universal.sh gDR_1.7.2.tar.gz /Library/Frameworks/R.framework/Resources/bin/R gDR.buildbin-libdir StartedAt: 2025-07-07 22:17:25 -0400 (Mon, 07 Jul 2025) EndedAt: 2025-07-07 22:17:39 -0400 (Mon, 07 Jul 2025) EllapsedTime: 14.3 seconds RetCode: 0 Status: OK PackageFile: gDR_1.7.2.tgz PackageFileSize: 279.4 KiB