Package: gDR Version: 1.7.2 Maintainer: Arkadiusz Gladki MaintainerEmail: gladki.arkadiusz at gmail.com git_url: https://git.bioconductor.org/packages/gDR git_branch: devel git_last_commit: 78d3709 git_last_commit_date: 2025-06-12 05:56:45 -0400 (Thu, 12 Jun 2025)