Package: gDNAx Version: 1.7.3 Command: /home/biocbuild/R/R/bin/R CMD build --keep-empty-dirs --no-resave-data gDNAx StartedAt: 2025-07-11 00:56:18 -0000 (Fri, 11 Jul 2025) EndedAt: 2025-07-11 01:00:49 -0000 (Fri, 11 Jul 2025) EllapsedTime: 271.1 seconds RetCode: 0 Status: OK PackageFile: gDNAx_1.7.3.tar.gz PackageFileSize: 651.8 KiB