Package: gDNAx Version: 1.7.3 Command: F:\biocbuild\bbs-3.22-bioc\R\bin\R.exe CMD INSTALL gDNAx StartedAt: 2025-07-21 16:43:32 -0400 (Mon, 21 Jul 2025) EndedAt: 2025-07-21 16:44:31 -0400 (Mon, 21 Jul 2025) EllapsedTime: 58.9 seconds RetCode: 0 Status: OK