Package: gDNAx Version: 1.7.3 Command: F:\biocbuild\bbs-3.22-bioc\R\bin\R.exe CMD check --no-multiarch --install=check:gDNAx.install-out.txt --library=F:\biocbuild\bbs-3.22-bioc\R\library --no-vignettes --timings gDNAx_1.7.3.tar.gz StartedAt: 2025-07-22 02:20:19 -0400 (Tue, 22 Jul 2025) EndedAt: 2025-07-22 02:39:00 -0400 (Tue, 22 Jul 2025) EllapsedTime: 1120.7 seconds RetCode: 0 Status: OK CheckDir: gDNAx.Rcheck Warnings: 0