Package: gDNAx Version: 1.7.3 Command: chmod a+r gDNAx -R && F:\biocbuild\bbs-3.22-bioc\R\bin\R.exe CMD build --keep-empty-dirs --no-resave-data gDNAx StartedAt: 2025-07-21 19:16:42 -0400 (Mon, 21 Jul 2025) EndedAt: 2025-07-21 19:21:19 -0400 (Mon, 21 Jul 2025) EllapsedTime: 277.4 seconds RetCode: 0 Status: OK PackageFile: gDNAx_1.7.3.tar.gz PackageFileSize: 563.1 KiB