Package: gDNAx Version: 1.7.3 Command: rm -rf gDNAx.buildbin-libdir && mkdir gDNAx.buildbin-libdir && F:\biocbuild\bbs-3.22-bioc\R\bin\R.exe CMD INSTALL --build --library=gDNAx.buildbin-libdir gDNAx_1.7.3.tar.gz StartedAt: 2025-07-22 09:08:55 -0400 (Tue, 22 Jul 2025) EndedAt: 2025-07-22 09:09:58 -0400 (Tue, 22 Jul 2025) EllapsedTime: 62.9 seconds RetCode: 0 Status: OK PackageFile: gDNAx_1.7.3.zip PackageFileSize: 958.7 KiB