Package: gDNAx Version: 1.7.3 Command: /Library/Frameworks/R.framework/Resources/bin/R CMD INSTALL gDNAx StartedAt: 2025-06-30 15:45:04 -0400 (Mon, 30 Jun 2025) EndedAt: 2025-06-30 15:46:03 -0400 (Mon, 30 Jun 2025) EllapsedTime: 58.7 seconds RetCode: 0 Status: OK