Package: gDNAx Version: 1.7.3 Command: rm -rf gDNAx.buildbin-libdir && mkdir gDNAx.buildbin-libdir && /Users/biocbuild/BBS/utils/build-universal.sh gDNAx_1.7.3.tar.gz /Library/Frameworks/R.framework/Resources/bin/R gDNAx.buildbin-libdir StartedAt: 2025-07-01 00:41:23 -0400 (Tue, 01 Jul 2025) EndedAt: 2025-07-01 00:42:26 -0400 (Tue, 01 Jul 2025) EllapsedTime: 62.7 seconds RetCode: 0 Status: OK PackageFile: gDNAx_1.7.3.tgz PackageFileSize: 1.106 MiB