Package: gDNAx Version: 1.7.3 Command: /Library/Frameworks/R.framework/Resources/bin/R CMD build --keep-empty-dirs --no-resave-data gDNAx StartedAt: 2025-07-01 16:21:21 -0400 (Tue, 01 Jul 2025) EndedAt: 2025-07-01 16:22:52 -0400 (Tue, 01 Jul 2025) EllapsedTime: 91.0 seconds RetCode: 0 Status: OK PackageFile: gDNAx_1.7.3.tar.gz PackageFileSize: 741.7 KiB