Package: gDNAx Version: 1.7.3 Command: rm -rf gDNAx.buildbin-libdir && mkdir gDNAx.buildbin-libdir && /Users/biocbuild/BBS/utils/build-universal.sh gDNAx_1.7.3.tar.gz /Library/Frameworks/R.framework/Resources/bin/R gDNAx.buildbin-libdir StartedAt: 2025-07-01 22:19:38 -0400 (Tue, 01 Jul 2025) EndedAt: 2025-07-01 22:20:02 -0400 (Tue, 01 Jul 2025) EllapsedTime: 23.5 seconds RetCode: 0 Status: OK PackageFile: gDNAx_1.7.3.tgz PackageFileSize: 1.107 MiB