Package: gCrisprTools Version: 2.15.0 Command: /Library/Frameworks/R.framework/Resources/bin/R CMD INSTALL gCrisprTools StartedAt: 2025-06-26 15:18:26 -0400 (Thu, 26 Jun 2025) EndedAt: 2025-06-26 15:19:02 -0400 (Thu, 26 Jun 2025) EllapsedTime: 35.9 seconds RetCode: 0 Status: OK