Package: funtooNorm Version: 1.33.0 Command: /home/biocbuild/R/R/bin/R CMD INSTALL funtooNorm StartedAt: 2025-07-21 21:16:43 -0000 (Mon, 21 Jul 2025) EndedAt: 2025-07-21 21:17:41 -0000 (Mon, 21 Jul 2025) EllapsedTime: 58.2 seconds RetCode: 0 Status: OK