Package: funtooNorm Version: 1.33.0 Command: /home/biocbuild/R/R/bin/R CMD check --install=check:funtooNorm.install-out.txt --library=/home/biocbuild/R/R/site-library --no-vignettes --timings funtooNorm_1.33.0.tar.gz StartedAt: 2025-07-22 07:23:19 -0000 (Tue, 22 Jul 2025) EndedAt: 2025-07-22 07:31:35 -0000 (Tue, 22 Jul 2025) EllapsedTime: 496.3 seconds RetCode: 0 Status: WARNINGS CheckDir: funtooNorm.Rcheck Warnings: 2