Package: funtooNorm Version: 1.33.0 Command: /home/biocbuild/R/R/bin/R CMD build --keep-empty-dirs --no-resave-data funtooNorm StartedAt: 2025-07-21 23:49:28 -0000 (Mon, 21 Jul 2025) EndedAt: 2025-07-21 23:49:30 -0000 (Mon, 21 Jul 2025) EllapsedTime: 2.0 seconds RetCode: 0 Status: OK PackageFile: funtooNorm_1.33.0.tar.gz PackageFileSize: 2.458 MiB