Package: funtooNorm Version: 1.33.0 Command: /home/biocbuild/bbs-3.22-bioc/R/bin/R CMD build --keep-empty-dirs --no-resave-data --md5 funtooNorm StartedAt: 2025-07-02 17:28:07 -0400 (Wed, 02 Jul 2025) EndedAt: 2025-07-02 17:28:08 -0400 (Wed, 02 Jul 2025) EllapsedTime: 1.0 seconds RetCode: 0 Status: OK PackageFile: funtooNorm_1.33.0.tar.gz PackageFileSize: 2.459 MiB