Package: funtooNorm Version: 1.33.0 Command: /Library/Frameworks/R.framework/Resources/bin/R CMD check --install=check:funtooNorm.install-out.txt --library=/Library/Frameworks/R.framework/Resources/library --no-vignettes --timings funtooNorm_1.33.0.tar.gz StartedAt: 2025-07-07 20:47:04 -0400 (Mon, 07 Jul 2025) EndedAt: 2025-07-07 20:55:08 -0400 (Mon, 07 Jul 2025) EllapsedTime: 484.1 seconds RetCode: 0 Status: WARNINGS CheckDir: funtooNorm.Rcheck Warnings: 2