Package: funtooNorm Version: 1.33.0 Command: /Library/Frameworks/R.framework/Resources/bin/R CMD build --keep-empty-dirs --no-resave-data funtooNorm StartedAt: 2025-07-07 16:57:45 -0400 (Mon, 07 Jul 2025) EndedAt: 2025-07-07 16:57:47 -0400 (Mon, 07 Jul 2025) EllapsedTime: 2.3 seconds RetCode: 0 Status: OK PackageFile: funtooNorm_1.33.0.tar.gz PackageFileSize: 2.458 MiB