Package: funtooNorm Version: 1.33.0 Maintainer: Kathleen Klein MaintainerEmail: kathleen.klein at mail.mcgill.ca git_url: https://git.bioconductor.org/packages/funtooNorm git_branch: devel git_last_commit: e1d5655 git_last_commit_date: 2025-04-15 11:08:06 -0400 (Tue, 15 Apr 2025)