Package: funOmics Version: 1.3.0 Command: chmod a+r funOmics -R && F:\biocbuild\bbs-3.22-bioc\R\bin\R.exe CMD build --keep-empty-dirs --no-resave-data funOmics StartedAt: 2025-07-24 19:21:51 -0400 (Thu, 24 Jul 2025) EndedAt: 2025-07-24 19:28:58 -0400 (Thu, 24 Jul 2025) EllapsedTime: 427.1 seconds RetCode: 0 Status: OK PackageFile: funOmics_1.3.0.tar.gz PackageFileSize: 52.39 KiB