Package: funOmics Version: 1.3.0 Command: /Library/Frameworks/R.framework/Resources/bin/R CMD build --keep-empty-dirs --no-resave-data funOmics StartedAt: 2025-07-20 17:00:40 -0400 (Sun, 20 Jul 2025) EndedAt: 2025-07-20 17:07:11 -0400 (Sun, 20 Jul 2025) EllapsedTime: 391.5 seconds RetCode: 0 Status: OK PackageFile: funOmics_1.3.0.tar.gz PackageFileSize: 52.3 KiB