Package: frmaTools Version: 1.61.0 Command: F:\biocbuild\bbs-3.22-bioc\R\bin\R.exe CMD check --no-multiarch --install=check:frmaTools.install-out.txt --library=F:\biocbuild\bbs-3.22-bioc\R\library --no-vignettes --timings frmaTools_1.61.0.tar.gz StartedAt: 2025-06-30 01:59:51 -0400 (Mon, 30 Jun 2025) EndedAt: 2025-06-30 02:00:42 -0400 (Mon, 30 Jun 2025) EllapsedTime: 51.0 seconds RetCode: 0 Status: OK CheckDir: frmaTools.Rcheck Warnings: 0