Package: frmaTools Version: 1.61.0 Command: /Library/Frameworks/R.framework/Resources/bin/R CMD INSTALL frmaTools StartedAt: 2025-07-22 15:13:45 -0400 (Tue, 22 Jul 2025) EndedAt: 2025-07-22 15:13:52 -0400 (Tue, 22 Jul 2025) EllapsedTime: 6.8 seconds RetCode: 0 Status: OK