Package: frmaTools Version: 1.61.0 Command: /Library/Frameworks/R.framework/Resources/bin/R CMD check --install=check:frmaTools.install-out.txt --library=/Library/Frameworks/R.framework/Resources/library --no-vignettes --timings frmaTools_1.61.0.tar.gz StartedAt: 2025-07-22 20:51:22 -0400 (Tue, 22 Jul 2025) EndedAt: 2025-07-22 20:52:10 -0400 (Tue, 22 Jul 2025) EllapsedTime: 47.4 seconds RetCode: 0 Status: OK CheckDir: frmaTools.Rcheck Warnings: 0