Package: frmaTools Version: 1.61.0 Command: /Library/Frameworks/R.framework/Resources/bin/R CMD build --keep-empty-dirs --no-resave-data frmaTools StartedAt: 2025-07-22 16:51:54 -0400 (Tue, 22 Jul 2025) EndedAt: 2025-07-22 16:52:15 -0400 (Tue, 22 Jul 2025) EllapsedTime: 20.6 seconds RetCode: 0 Status: OK PackageFile: frmaTools_1.61.0.tar.gz PackageFileSize: 157.3 KiB