Package: frma Version: 1.61.0 Command: /home/biocbuild/R/R/bin/R CMD INSTALL frma StartedAt: 2025-07-17 20:43:28 -0000 (Thu, 17 Jul 2025) EndedAt: 2025-07-17 20:44:04 -0000 (Thu, 17 Jul 2025) EllapsedTime: 35.9 seconds RetCode: 0 Status: OK