Package: frma Version: 1.61.0 Command: /home/biocbuild/R/R/bin/R CMD check --install=check:frma.install-out.txt --library=/home/biocbuild/R/R/site-library --no-vignettes --timings frma_1.61.0.tar.gz StartedAt: 2025-07-18 06:53:12 -0000 (Fri, 18 Jul 2025) EndedAt: 2025-07-18 06:59:07 -0000 (Fri, 18 Jul 2025) EllapsedTime: 354.5 seconds RetCode: 0 Status: OK CheckDir: frma.Rcheck Warnings: 0