Package: frma Version: 1.61.0 Command: /home/biocbuild/R/R/bin/R CMD build --keep-empty-dirs --no-resave-data frma StartedAt: 2025-07-17 23:51:53 -0000 (Thu, 17 Jul 2025) EndedAt: 2025-07-17 23:53:10 -0000 (Thu, 17 Jul 2025) EllapsedTime: 77.0 seconds RetCode: 0 Status: OK PackageFile: frma_1.61.0.tar.gz PackageFileSize: 278.8 KiB