Package: frma Version: 1.61.0 Command: F:\biocbuild\bbs-3.22-bioc\R\bin\R.exe CMD INSTALL frma StartedAt: 2025-07-24 16:29:18 -0400 (Thu, 24 Jul 2025) EndedAt: 2025-07-24 16:29:59 -0400 (Thu, 24 Jul 2025) EllapsedTime: 40.6 seconds RetCode: 0 Status: OK