Package: frma Version: 1.61.0 Command: /Library/Frameworks/R.framework/Resources/bin/R CMD check --install=check:frma.install-out.txt --library=/Library/Frameworks/R.framework/Resources/library --no-vignettes --timings frma_1.61.0.tar.gz StartedAt: 2025-07-11 20:48:15 -0400 (Fri, 11 Jul 2025) EndedAt: 2025-07-11 20:52:05 -0400 (Fri, 11 Jul 2025) EllapsedTime: 230.1 seconds RetCode: 0 Status: OK CheckDir: frma.Rcheck Warnings: 0