Package: frma Version: 1.61.0 Command: /Library/Frameworks/R.framework/Resources/bin/R CMD build --keep-empty-dirs --no-resave-data frma StartedAt: 2025-07-11 16:57:13 -0400 (Fri, 11 Jul 2025) EndedAt: 2025-07-11 16:58:25 -0400 (Fri, 11 Jul 2025) EllapsedTime: 72.0 seconds RetCode: 0 Status: OK PackageFile: frma_1.61.0.tar.gz PackageFileSize: 287.2 KiB